BEGIN:VCALENDAR
VERSION:2.0
PRODID:icalendar-ruby
CALSCALE:GREGORIAN
METHOD:PUBLISH
BEGIN:VEVENT
DTSTAMP:20260422T215630Z
UID:17-1502548@stbethlehem.tithelysetup5.com
DTSTART:20261030T003000Z
DTEND:20261030T020000Z
CLASS:PUBLIC
CREATED:20260422T161848
DESCRIPTION:
LAST-MODIFIED:20260422T161848
LOCATION:2201 Old Russellville Pike | Heritage Hall
SUMMARY:Narcotics Anonymous
URL;VALUE=URI:https://stbumc.com/events/narcotics-anonymous--17/2026-10-29
ATTACH;FILENAME=na_logo_large.gif;FMTTYPE=image/gif:https://dq5pwpg1q8ru0.c
 loudfront.net/2025/07/28/18/17/10/8a4c4b61-00a7-4682-a73c-96f3d1e307cf/na_
 logo_large.gif
END:VEVENT
END:VCALENDAR
