BEGIN:VCALENDAR
VERSION:2.0
PRODID:icalendar-ruby
CALSCALE:GREGORIAN
METHOD:PUBLISH
BEGIN:VEVENT
DTSTAMP:20260422T114220Z
UID:21-1500378@stbethlehem.tithelysetup5.com
DTSTART:20261104T003000Z
DTEND:20261104T013000Z
CLASS:PUBLIC
CREATED:20260421T202609
DESCRIPTION:
LAST-MODIFIED:20260421T202609
LOCATION:
SUMMARY:Cub Scouts
URL;VALUE=URI:https://stbumc.com/events/cub-scouts/2026-11-03
END:VEVENT
END:VCALENDAR
