BEGIN:VCALENDAR
VERSION:2.0
PRODID:icalendar-ruby
CALSCALE:GREGORIAN
METHOD:PUBLISH
BEGIN:VEVENT
DTSTAMP:20260420T083216Z
UID:21-1493499@stbethlehem.tithelysetup5.com
DTSTART:20261013T233000Z
DTEND:20261014T003000Z
CLASS:PUBLIC
CREATED:20260420T023746
DESCRIPTION:
LAST-MODIFIED:20260420T023746
LOCATION:
SUMMARY:Cub Scouts
URL;VALUE=URI:https://stbumc.com/events/cub-scouts/2026-10-13
END:VEVENT
END:VCALENDAR
