BEGIN:VCALENDAR
VERSION:2.0
PRODID:icalendar-ruby
CALSCALE:GREGORIAN
METHOD:PUBLISH
BEGIN:VEVENT
DTSTAMP:20260421T131058Z
UID:23-1497518@stbethlehem.tithelysetup5.com
DTSTART:20251015T230000Z
DTEND:20251016T000000Z
CLASS:PUBLIC
CREATED:20260421T071742
DESCRIPTION:
LAST-MODIFIED:20260421T071742
LOCATION:2201 Old Russellville Pike | Heritage Hall
SUMMARY:Bible Study
URL;VALUE=URI:https://stbumc.com/events/bible-study--23/2025-10-15
END:VEVENT
END:VCALENDAR
