BEGIN:VCALENDAR
VERSION:2.0
PRODID:icalendar-ruby
CALSCALE:GREGORIAN
METHOD:PUBLISH
BEGIN:VEVENT
DTSTAMP:20260421T100716Z
UID:23-1496943@stbethlehem.tithelysetup5.com
DTSTART:20251001T230000Z
DTEND:20251002T000000Z
CLASS:PUBLIC
CREATED:20260420T201036
DESCRIPTION:
LAST-MODIFIED:20260420T201036
LOCATION:2201 Old Russellville Pike | Heritage Hall
SUMMARY:Bible Study
URL;VALUE=URI:https://stbumc.com/events/bible-study--23/2025-10-01
END:VEVENT
END:VCALENDAR
